BEGIN:VCALENDAR
VERSION:2.0
PRODID:-//Hermandad del Descendimiento (Córdoba, España) - ECPv6.0.3//NONSGML v1.0//EN
CALSCALE:GREGORIAN
METHOD:PUBLISH
X-ORIGINAL-URL:https://www.descendimientocordoba.org
X-WR-CALDESC:Eventos para Hermandad del Descendimiento (Córdoba, España)
REFRESH-INTERVAL;VALUE=DURATION:PT1H
X-Robots-Tag:noindex
X-PUBLISHED-TTL:PT1H
BEGIN:VTIMEZONE
TZID:Europe/Paris
BEGIN:DAYLIGHT
TZOFFSETFROM:+0100
TZOFFSETTO:+0200
TZNAME:CEST
DTSTART:20200329T010000
END:DAYLIGHT
BEGIN:STANDARD
TZOFFSETFROM:+0200
TZOFFSETTO:+0100
TZNAME:CET
DTSTART:20201025T010000
END:STANDARD
BEGIN:DAYLIGHT
TZOFFSETFROM:+0100
TZOFFSETTO:+0200
TZNAME:CEST
DTSTART:20210328T010000
END:DAYLIGHT
BEGIN:STANDARD
TZOFFSETFROM:+0200
TZOFFSETTO:+0100
TZNAME:CET
DTSTART:20211031T010000
END:STANDARD
BEGIN:DAYLIGHT
TZOFFSETFROM:+0100
TZOFFSETTO:+0200
TZNAME:CEST
DTSTART:20220327T010000
END:DAYLIGHT
BEGIN:STANDARD
TZOFFSETFROM:+0200
TZOFFSETTO:+0100
TZNAME:CET
DTSTART:20221030T010000
END:STANDARD
BEGIN:DAYLIGHT
TZOFFSETFROM:+0100
TZOFFSETTO:+0200
TZNAME:CEST
DTSTART:20230326T010000
END:DAYLIGHT
BEGIN:STANDARD
TZOFFSETFROM:+0200
TZOFFSETTO:+0100
TZNAME:CET
DTSTART:20231029T010000
END:STANDARD
BEGIN:DAYLIGHT
TZOFFSETFROM:+0100
TZOFFSETTO:+0200
TZNAME:CEST
DTSTART:20240331T010000
END:DAYLIGHT
BEGIN:STANDARD
TZOFFSETFROM:+0200
TZOFFSETTO:+0100
TZNAME:CET
DTSTART:20241027T010000
END:STANDARD
BEGIN:DAYLIGHT
TZOFFSETFROM:+0100
TZOFFSETTO:+0200
TZNAME:CEST
DTSTART:20250330T010000
END:DAYLIGHT
BEGIN:STANDARD
TZOFFSETFROM:+0200
TZOFFSETTO:+0100
TZNAME:CET
DTSTART:20251026T010000
END:STANDARD
END:VTIMEZONE
BEGIN:VEVENT
DTSTART;TZID=Europe/Paris:20251205T183000
DTEND;TZID=Europe/Paris:20251205T190000
DTSTAMP:20260419T170503
CREATED:20201026T143931Z
LAST-MODIFIED:20201026T143931Z
UID:12725-1764959400-1764961200@www.descendimientocordoba.org
SUMMARY:Misa por los Hermanos Difuntos
DESCRIPTION:Todos los PRIMEROS VIERNES DE MES se celebrara una MISA como sufragio por los cofrades y fieles difuntos y de manera especial por aquellos que hayan fallecido durante el mes anterior a la misma. La Misa finalizara siempre con el rezo de la Oración a nuestro Stmo Titular.
URL:https://www.descendimientocordoba.org/evento/misa-por-los-hermanos-difuntos/2025-12-05/
LOCATION:Parroquia de San José y Espíritu Santo\, Plaza de Santa Teresa\, 1\, Córdoba\, 14009\, España
CATEGORIES:Cultos
ATTACH;FMTTYPE=image/jpeg:https://www.descendimientocordoba.org/wp-content/uploads/2020/09/descen-sept20-9.jpg
ORGANIZER;CN="Hermandad%20del%20Descendimiento":MAILTO:info@descendimientocordoba.org
END:VEVENT
BEGIN:VEVENT
DTSTART;TZID=Europe/Paris:20251107T183000
DTEND;TZID=Europe/Paris:20251107T190000
DTSTAMP:20260419T170503
CREATED:20201026T143931Z
LAST-MODIFIED:20201026T143931Z
UID:12723-1762540200-1762542000@www.descendimientocordoba.org
SUMMARY:Misa por los Hermanos Difuntos
DESCRIPTION:Todos los PRIMEROS VIERNES DE MES se celebrara una MISA como sufragio por los cofrades y fieles difuntos y de manera especial por aquellos que hayan fallecido durante el mes anterior a la misma. La Misa finalizara siempre con el rezo de la Oración a nuestro Stmo Titular.
URL:https://www.descendimientocordoba.org/evento/misa-por-los-hermanos-difuntos/2025-11-07/
LOCATION:Parroquia de San José y Espíritu Santo\, Plaza de Santa Teresa\, 1\, Córdoba\, 14009\, España
CATEGORIES:Cultos
ATTACH;FMTTYPE=image/jpeg:https://www.descendimientocordoba.org/wp-content/uploads/2020/09/descen-sept20-9.jpg
ORGANIZER;CN="Hermandad%20del%20Descendimiento":MAILTO:info@descendimientocordoba.org
END:VEVENT
BEGIN:VEVENT
DTSTART;TZID=Europe/Paris:20251003T183000
DTEND;TZID=Europe/Paris:20251003T190000
DTSTAMP:20260419T170503
CREATED:20201026T143931Z
LAST-MODIFIED:20201026T143931Z
UID:12721-1759516200-1759518000@www.descendimientocordoba.org
SUMMARY:Misa por los Hermanos Difuntos
DESCRIPTION:Todos los PRIMEROS VIERNES DE MES se celebrara una MISA como sufragio por los cofrades y fieles difuntos y de manera especial por aquellos que hayan fallecido durante el mes anterior a la misma. La Misa finalizara siempre con el rezo de la Oración a nuestro Stmo Titular.
URL:https://www.descendimientocordoba.org/evento/misa-por-los-hermanos-difuntos/2025-10-03/
LOCATION:Parroquia de San José y Espíritu Santo\, Plaza de Santa Teresa\, 1\, Córdoba\, 14009\, España
CATEGORIES:Cultos
ATTACH;FMTTYPE=image/jpeg:https://www.descendimientocordoba.org/wp-content/uploads/2020/09/descen-sept20-9.jpg
ORGANIZER;CN="Hermandad%20del%20Descendimiento":MAILTO:info@descendimientocordoba.org
END:VEVENT
BEGIN:VEVENT
DTSTART;TZID=Europe/Paris:20250801T183000
DTEND;TZID=Europe/Paris:20250801T190000
DTSTAMP:20260419T170503
CREATED:20201026T143931Z
LAST-MODIFIED:20201026T143931Z
UID:12716-1754073000-1754074800@www.descendimientocordoba.org
SUMMARY:Misa por los Hermanos Difuntos
DESCRIPTION:Todos los PRIMEROS VIERNES DE MES se celebrara una MISA como sufragio por los cofrades y fieles difuntos y de manera especial por aquellos que hayan fallecido durante el mes anterior a la misma. La Misa finalizara siempre con el rezo de la Oración a nuestro Stmo Titular.
URL:https://www.descendimientocordoba.org/evento/misa-por-los-hermanos-difuntos/2025-08-01/
LOCATION:Parroquia de San José y Espíritu Santo\, Plaza de Santa Teresa\, 1\, Córdoba\, 14009\, España
CATEGORIES:Cultos
ATTACH;FMTTYPE=image/jpeg:https://www.descendimientocordoba.org/wp-content/uploads/2020/09/descen-sept20-9.jpg
ORGANIZER;CN="Hermandad%20del%20Descendimiento":MAILTO:info@descendimientocordoba.org
END:VEVENT
BEGIN:VEVENT
DTSTART;TZID=Europe/Paris:20250704T183000
DTEND;TZID=Europe/Paris:20250704T190000
DTSTAMP:20260419T170503
CREATED:20201026T143931Z
LAST-MODIFIED:20201026T143931Z
UID:12708-1751653800-1751655600@www.descendimientocordoba.org
SUMMARY:Misa por los Hermanos Difuntos
DESCRIPTION:Todos los PRIMEROS VIERNES DE MES se celebrara una MISA como sufragio por los cofrades y fieles difuntos y de manera especial por aquellos que hayan fallecido durante el mes anterior a la misma. La Misa finalizara siempre con el rezo de la Oración a nuestro Stmo Titular.
URL:https://www.descendimientocordoba.org/evento/misa-por-los-hermanos-difuntos/2025-07-04/
LOCATION:Parroquia de San José y Espíritu Santo\, Plaza de Santa Teresa\, 1\, Córdoba\, 14009\, España
CATEGORIES:Cultos
ATTACH;FMTTYPE=image/jpeg:https://www.descendimientocordoba.org/wp-content/uploads/2020/09/descen-sept20-9.jpg
ORGANIZER;CN="Hermandad%20del%20Descendimiento":MAILTO:info@descendimientocordoba.org
END:VEVENT
BEGIN:VEVENT
DTSTART;TZID=Europe/Paris:20250606T183000
DTEND;TZID=Europe/Paris:20250606T190000
DTSTAMP:20260419T170503
CREATED:20201026T143931Z
LAST-MODIFIED:20201026T143931Z
UID:12706-1749234600-1749236400@www.descendimientocordoba.org
SUMMARY:Misa por los Hermanos Difuntos
DESCRIPTION:Todos los PRIMEROS VIERNES DE MES se celebrara una MISA como sufragio por los cofrades y fieles difuntos y de manera especial por aquellos que hayan fallecido durante el mes anterior a la misma. La Misa finalizara siempre con el rezo de la Oración a nuestro Stmo Titular.
URL:https://www.descendimientocordoba.org/evento/misa-por-los-hermanos-difuntos/2025-06-06/
LOCATION:Parroquia de San José y Espíritu Santo\, Plaza de Santa Teresa\, 1\, Córdoba\, 14009\, España
CATEGORIES:Cultos
ATTACH;FMTTYPE=image/jpeg:https://www.descendimientocordoba.org/wp-content/uploads/2020/09/descen-sept20-9.jpg
ORGANIZER;CN="Hermandad%20del%20Descendimiento":MAILTO:info@descendimientocordoba.org
END:VEVENT
BEGIN:VEVENT
DTSTART;TZID=Europe/Paris:20250502T183000
DTEND;TZID=Europe/Paris:20250502T190000
DTSTAMP:20260419T170503
CREATED:20201026T143931Z
LAST-MODIFIED:20201026T143931Z
UID:12699-1746210600-1746212400@www.descendimientocordoba.org
SUMMARY:Misa por los Hermanos Difuntos
DESCRIPTION:Todos los PRIMEROS VIERNES DE MES se celebrara una MISA como sufragio por los cofrades y fieles difuntos y de manera especial por aquellos que hayan fallecido durante el mes anterior a la misma. La Misa finalizara siempre con el rezo de la Oración a nuestro Stmo Titular.
URL:https://www.descendimientocordoba.org/evento/misa-por-los-hermanos-difuntos/2025-05-02/
LOCATION:Parroquia de San José y Espíritu Santo\, Plaza de Santa Teresa\, 1\, Córdoba\, 14009\, España
CATEGORIES:Cultos
ATTACH;FMTTYPE=image/jpeg:https://www.descendimientocordoba.org/wp-content/uploads/2020/09/descen-sept20-9.jpg
ORGANIZER;CN="Hermandad%20del%20Descendimiento":MAILTO:info@descendimientocordoba.org
END:VEVENT
BEGIN:VEVENT
DTSTART;TZID=Europe/Paris:20250404T183000
DTEND;TZID=Europe/Paris:20250404T190000
DTSTAMP:20260419T170503
CREATED:20201026T143931Z
LAST-MODIFIED:20201026T143931Z
UID:12697-1743791400-1743793200@www.descendimientocordoba.org
SUMMARY:Misa por los Hermanos Difuntos
DESCRIPTION:Todos los PRIMEROS VIERNES DE MES se celebrara una MISA como sufragio por los cofrades y fieles difuntos y de manera especial por aquellos que hayan fallecido durante el mes anterior a la misma. La Misa finalizara siempre con el rezo de la Oración a nuestro Stmo Titular.
URL:https://www.descendimientocordoba.org/evento/misa-por-los-hermanos-difuntos/2025-04-04/
LOCATION:Parroquia de San José y Espíritu Santo\, Plaza de Santa Teresa\, 1\, Córdoba\, 14009\, España
CATEGORIES:Cultos
ATTACH;FMTTYPE=image/jpeg:https://www.descendimientocordoba.org/wp-content/uploads/2020/09/descen-sept20-9.jpg
ORGANIZER;CN="Hermandad%20del%20Descendimiento":MAILTO:info@descendimientocordoba.org
END:VEVENT
BEGIN:VEVENT
DTSTART;TZID=Europe/Paris:20250307T183000
DTEND;TZID=Europe/Paris:20250307T190000
DTSTAMP:20260419T170503
CREATED:20201026T143931Z
LAST-MODIFIED:20201026T143931Z
UID:12683-1741372200-1741374000@www.descendimientocordoba.org
SUMMARY:Misa por los Hermanos Difuntos
DESCRIPTION:Todos los PRIMEROS VIERNES DE MES se celebrara una MISA como sufragio por los cofrades y fieles difuntos y de manera especial por aquellos que hayan fallecido durante el mes anterior a la misma. La Misa finalizara siempre con el rezo de la Oración a nuestro Stmo Titular.
URL:https://www.descendimientocordoba.org/evento/misa-por-los-hermanos-difuntos/2025-03-07/
LOCATION:Parroquia de San José y Espíritu Santo\, Plaza de Santa Teresa\, 1\, Córdoba\, 14009\, España
CATEGORIES:Cultos
ATTACH;FMTTYPE=image/jpeg:https://www.descendimientocordoba.org/wp-content/uploads/2020/09/descen-sept20-9.jpg
ORGANIZER;CN="Hermandad%20del%20Descendimiento":MAILTO:info@descendimientocordoba.org
END:VEVENT
BEGIN:VEVENT
DTSTART;TZID=Europe/Paris:20250207T183000
DTEND;TZID=Europe/Paris:20250207T190000
DTSTAMP:20260419T170503
CREATED:20201026T143931Z
LAST-MODIFIED:20201026T143931Z
UID:12667-1738953000-1738954800@www.descendimientocordoba.org
SUMMARY:Misa por los Hermanos Difuntos
DESCRIPTION:Todos los PRIMEROS VIERNES DE MES se celebrara una MISA como sufragio por los cofrades y fieles difuntos y de manera especial por aquellos que hayan fallecido durante el mes anterior a la misma. La Misa finalizara siempre con el rezo de la Oración a nuestro Stmo Titular.
URL:https://www.descendimientocordoba.org/evento/misa-por-los-hermanos-difuntos/2025-02-07/
LOCATION:Parroquia de San José y Espíritu Santo\, Plaza de Santa Teresa\, 1\, Córdoba\, 14009\, España
CATEGORIES:Cultos
ATTACH;FMTTYPE=image/jpeg:https://www.descendimientocordoba.org/wp-content/uploads/2020/09/descen-sept20-9.jpg
ORGANIZER;CN="Hermandad%20del%20Descendimiento":MAILTO:info@descendimientocordoba.org
END:VEVENT
BEGIN:VEVENT
DTSTART;TZID=Europe/Paris:20250103T183000
DTEND;TZID=Europe/Paris:20250103T190000
DTSTAMP:20260419T170503
CREATED:20201026T143931Z
LAST-MODIFIED:20201026T143931Z
UID:12632-1735929000-1735930800@www.descendimientocordoba.org
SUMMARY:Misa por los Hermanos Difuntos
DESCRIPTION:Todos los PRIMEROS VIERNES DE MES se celebrara una MISA como sufragio por los cofrades y fieles difuntos y de manera especial por aquellos que hayan fallecido durante el mes anterior a la misma. La Misa finalizara siempre con el rezo de la Oración a nuestro Stmo Titular.
URL:https://www.descendimientocordoba.org/evento/misa-por-los-hermanos-difuntos/2025-01-03/
LOCATION:Parroquia de San José y Espíritu Santo\, Plaza de Santa Teresa\, 1\, Córdoba\, 14009\, España
CATEGORIES:Cultos
ATTACH;FMTTYPE=image/jpeg:https://www.descendimientocordoba.org/wp-content/uploads/2020/09/descen-sept20-9.jpg
ORGANIZER;CN="Hermandad%20del%20Descendimiento":MAILTO:info@descendimientocordoba.org
END:VEVENT
BEGIN:VEVENT
DTSTART;TZID=Europe/Paris:20241206T183000
DTEND;TZID=Europe/Paris:20241206T190000
DTSTAMP:20260419T170503
CREATED:20201026T143931Z
LAST-MODIFIED:20201026T143931Z
UID:12627-1733509800-1733511600@www.descendimientocordoba.org
SUMMARY:Misa por los Hermanos Difuntos
DESCRIPTION:Todos los PRIMEROS VIERNES DE MES se celebrara una MISA como sufragio por los cofrades y fieles difuntos y de manera especial por aquellos que hayan fallecido durante el mes anterior a la misma. La Misa finalizara siempre con el rezo de la Oración a nuestro Stmo Titular.
URL:https://www.descendimientocordoba.org/evento/misa-por-los-hermanos-difuntos/2024-12-06/
LOCATION:Parroquia de San José y Espíritu Santo\, Plaza de Santa Teresa\, 1\, Córdoba\, 14009\, España
CATEGORIES:Cultos
ATTACH;FMTTYPE=image/jpeg:https://www.descendimientocordoba.org/wp-content/uploads/2020/09/descen-sept20-9.jpg
ORGANIZER;CN="Hermandad%20del%20Descendimiento":MAILTO:info@descendimientocordoba.org
END:VEVENT
BEGIN:VEVENT
DTSTART;TZID=Europe/Paris:20241101T183000
DTEND;TZID=Europe/Paris:20241101T190000
DTSTAMP:20260419T170503
CREATED:20201026T143931Z
LAST-MODIFIED:20201026T143931Z
UID:12586-1730485800-1730487600@www.descendimientocordoba.org
SUMMARY:Misa por los Hermanos Difuntos
DESCRIPTION:Todos los PRIMEROS VIERNES DE MES se celebrara una MISA como sufragio por los cofrades y fieles difuntos y de manera especial por aquellos que hayan fallecido durante el mes anterior a la misma. La Misa finalizara siempre con el rezo de la Oración a nuestro Stmo Titular.
URL:https://www.descendimientocordoba.org/evento/misa-por-los-hermanos-difuntos/2024-11-01/
LOCATION:Parroquia de San José y Espíritu Santo\, Plaza de Santa Teresa\, 1\, Córdoba\, 14009\, España
CATEGORIES:Cultos
ATTACH;FMTTYPE=image/jpeg:https://www.descendimientocordoba.org/wp-content/uploads/2020/09/descen-sept20-9.jpg
ORGANIZER;CN="Hermandad%20del%20Descendimiento":MAILTO:info@descendimientocordoba.org
END:VEVENT
BEGIN:VEVENT
DTSTART;TZID=Europe/Paris:20241004T183000
DTEND;TZID=Europe/Paris:20241004T190000
DTSTAMP:20260419T170503
CREATED:20201026T143931Z
LAST-MODIFIED:20201026T143931Z
UID:12566-1728066600-1728068400@www.descendimientocordoba.org
SUMMARY:Misa por los Hermanos Difuntos
DESCRIPTION:Todos los PRIMEROS VIERNES DE MES se celebrara una MISA como sufragio por los cofrades y fieles difuntos y de manera especial por aquellos que hayan fallecido durante el mes anterior a la misma. La Misa finalizara siempre con el rezo de la Oración a nuestro Stmo Titular.
URL:https://www.descendimientocordoba.org/evento/misa-por-los-hermanos-difuntos/2024-10-04/
LOCATION:Parroquia de San José y Espíritu Santo\, Plaza de Santa Teresa\, 1\, Córdoba\, 14009\, España
CATEGORIES:Cultos
ATTACH;FMTTYPE=image/jpeg:https://www.descendimientocordoba.org/wp-content/uploads/2020/09/descen-sept20-9.jpg
ORGANIZER;CN="Hermandad%20del%20Descendimiento":MAILTO:info@descendimientocordoba.org
END:VEVENT
BEGIN:VEVENT
DTSTART;TZID=Europe/Paris:20240906T183000
DTEND;TZID=Europe/Paris:20240906T190000
DTSTAMP:20260419T170503
CREATED:20201026T143931Z
LAST-MODIFIED:20201026T143931Z
UID:12525-1725647400-1725649200@www.descendimientocordoba.org
SUMMARY:Misa por los Hermanos Difuntos
DESCRIPTION:Todos los PRIMEROS VIERNES DE MES se celebrara una MISA como sufragio por los cofrades y fieles difuntos y de manera especial por aquellos que hayan fallecido durante el mes anterior a la misma. La Misa finalizara siempre con el rezo de la Oración a nuestro Stmo Titular.
URL:https://www.descendimientocordoba.org/evento/misa-por-los-hermanos-difuntos/2024-09-06/
LOCATION:Parroquia de San José y Espíritu Santo\, Plaza de Santa Teresa\, 1\, Córdoba\, 14009\, España
CATEGORIES:Cultos
ATTACH;FMTTYPE=image/jpeg:https://www.descendimientocordoba.org/wp-content/uploads/2020/09/descen-sept20-9.jpg
ORGANIZER;CN="Hermandad%20del%20Descendimiento":MAILTO:info@descendimientocordoba.org
END:VEVENT
BEGIN:VEVENT
DTSTART;TZID=Europe/Paris:20240802T183000
DTEND;TZID=Europe/Paris:20240802T190000
DTSTAMP:20260419T170503
CREATED:20201026T143931Z
LAST-MODIFIED:20201026T143931Z
UID:12491-1722623400-1722625200@www.descendimientocordoba.org
SUMMARY:Misa por los Hermanos Difuntos
DESCRIPTION:Todos los PRIMEROS VIERNES DE MES se celebrara una MISA como sufragio por los cofrades y fieles difuntos y de manera especial por aquellos que hayan fallecido durante el mes anterior a la misma. La Misa finalizara siempre con el rezo de la Oración a nuestro Stmo Titular.
URL:https://www.descendimientocordoba.org/evento/misa-por-los-hermanos-difuntos/2024-08-02/
LOCATION:Parroquia de San José y Espíritu Santo\, Plaza de Santa Teresa\, 1\, Córdoba\, 14009\, España
CATEGORIES:Cultos
ATTACH;FMTTYPE=image/jpeg:https://www.descendimientocordoba.org/wp-content/uploads/2020/09/descen-sept20-9.jpg
ORGANIZER;CN="Hermandad%20del%20Descendimiento":MAILTO:info@descendimientocordoba.org
END:VEVENT
BEGIN:VEVENT
DTSTART;TZID=Europe/Paris:20240705T183000
DTEND;TZID=Europe/Paris:20240705T190000
DTSTAMP:20260419T170503
CREATED:20201026T143931Z
LAST-MODIFIED:20201026T143931Z
UID:12485-1720204200-1720206000@www.descendimientocordoba.org
SUMMARY:Misa por los Hermanos Difuntos
DESCRIPTION:Todos los PRIMEROS VIERNES DE MES se celebrara una MISA como sufragio por los cofrades y fieles difuntos y de manera especial por aquellos que hayan fallecido durante el mes anterior a la misma. La Misa finalizara siempre con el rezo de la Oración a nuestro Stmo Titular.
URL:https://www.descendimientocordoba.org/evento/misa-por-los-hermanos-difuntos/2024-07-05/
LOCATION:Parroquia de San José y Espíritu Santo\, Plaza de Santa Teresa\, 1\, Córdoba\, 14009\, España
CATEGORIES:Cultos
ATTACH;FMTTYPE=image/jpeg:https://www.descendimientocordoba.org/wp-content/uploads/2020/09/descen-sept20-9.jpg
ORGANIZER;CN="Hermandad%20del%20Descendimiento":MAILTO:info@descendimientocordoba.org
END:VEVENT
BEGIN:VEVENT
DTSTART;TZID=Europe/Paris:20240607T183000
DTEND;TZID=Europe/Paris:20240607T190000
DTSTAMP:20260419T170503
CREATED:20201026T143931Z
LAST-MODIFIED:20201026T143931Z
UID:12458-1717785000-1717786800@www.descendimientocordoba.org
SUMMARY:Misa por los Hermanos Difuntos
DESCRIPTION:Todos los PRIMEROS VIERNES DE MES se celebrara una MISA como sufragio por los cofrades y fieles difuntos y de manera especial por aquellos que hayan fallecido durante el mes anterior a la misma. La Misa finalizara siempre con el rezo de la Oración a nuestro Stmo Titular.
URL:https://www.descendimientocordoba.org/evento/misa-por-los-hermanos-difuntos/2024-06-07/
LOCATION:Parroquia de San José y Espíritu Santo\, Plaza de Santa Teresa\, 1\, Córdoba\, 14009\, España
CATEGORIES:Cultos
ATTACH;FMTTYPE=image/jpeg:https://www.descendimientocordoba.org/wp-content/uploads/2020/09/descen-sept20-9.jpg
ORGANIZER;CN="Hermandad%20del%20Descendimiento":MAILTO:info@descendimientocordoba.org
END:VEVENT
BEGIN:VEVENT
DTSTART;TZID=Europe/Paris:20240503T183000
DTEND;TZID=Europe/Paris:20240503T190000
DTSTAMP:20260419T170503
CREATED:20201026T143931Z
LAST-MODIFIED:20201026T143931Z
UID:12427-1714761000-1714762800@www.descendimientocordoba.org
SUMMARY:Misa por los Hermanos Difuntos
DESCRIPTION:Todos los PRIMEROS VIERNES DE MES se celebrara una MISA como sufragio por los cofrades y fieles difuntos y de manera especial por aquellos que hayan fallecido durante el mes anterior a la misma. La Misa finalizara siempre con el rezo de la Oración a nuestro Stmo Titular.
URL:https://www.descendimientocordoba.org/evento/misa-por-los-hermanos-difuntos/2024-05-03/
LOCATION:Parroquia de San José y Espíritu Santo\, Plaza de Santa Teresa\, 1\, Córdoba\, 14009\, España
CATEGORIES:Cultos
ATTACH;FMTTYPE=image/jpeg:https://www.descendimientocordoba.org/wp-content/uploads/2020/09/descen-sept20-9.jpg
ORGANIZER;CN="Hermandad%20del%20Descendimiento":MAILTO:info@descendimientocordoba.org
END:VEVENT
BEGIN:VEVENT
DTSTART;TZID=Europe/Paris:20201106T183000
DTEND;TZID=Europe/Paris:20201106T190000
DTSTAMP:20260419T170503
CREATED:20201026T143931Z
LAST-MODIFIED:20220304T114019Z
UID:10931-1604687400-1604689200@www.descendimientocordoba.org
SUMMARY:Misa por los Hermanos Difuntos
DESCRIPTION:Todos los PRIMEROS VIERNES DE MES se celebrara una MISA como sufragio por los cofrades y fieles difuntos y de manera especial por aquellos que hayan fallecido durante el mes anterior a la misma. La Misa finalizara siempre con el rezo de la Oración a nuestro Stmo Titular.
URL:https://www.descendimientocordoba.org/evento/misa-por-los-hermanos-difuntos/2020-11-06/
LOCATION:Parroquia de San José y Espíritu Santo\, Plaza de Santa Teresa\, 1\, Córdoba\, 14009\, España
CATEGORIES:Cultos
ATTACH;FMTTYPE=image/jpeg:https://www.descendimientocordoba.org/wp-content/uploads/2020/09/descen-sept20-9.jpg
ORGANIZER;CN="Hermandad%20del%20Descendimiento":MAILTO:info@descendimientocordoba.org
END:VEVENT
END:VCALENDAR