BEGIN:VCALENDAR
VERSION:2.0
PRODID:-//Hermandad del Descendimiento (Córdoba, España) - ECPv6.0.3//NONSGML v1.0//EN
CALSCALE:GREGORIAN
METHOD:PUBLISH
X-WR-CALNAME:Hermandad del Descendimiento (Córdoba, España)
X-ORIGINAL-URL:https://www.descendimientocordoba.org
X-WR-CALDESC:Eventos para Hermandad del Descendimiento (Córdoba, España)
REFRESH-INTERVAL;VALUE=DURATION:PT1H
X-Robots-Tag:noindex
X-PUBLISHED-TTL:PT1H
BEGIN:VTIMEZONE
TZID:Europe/Paris
BEGIN:DAYLIGHT
TZOFFSETFROM:+0100
TZOFFSETTO:+0200
TZNAME:CEST
DTSTART:20270328T010000
END:DAYLIGHT
BEGIN:STANDARD
TZOFFSETFROM:+0200
TZOFFSETTO:+0100
TZNAME:CET
DTSTART:20271031T010000
END:STANDARD
BEGIN:DAYLIGHT
TZOFFSETFROM:+0100
TZOFFSETTO:+0200
TZNAME:CEST
DTSTART:20280326T010000
END:DAYLIGHT
BEGIN:STANDARD
TZOFFSETFROM:+0200
TZOFFSETTO:+0100
TZNAME:CET
DTSTART:20281029T010000
END:STANDARD
END:VTIMEZONE
BEGIN:VEVENT
DTSTART;TZID=Europe/Paris:20270903T183000
DTEND;TZID=Europe/Paris:20270903T190000
DTSTAMP:20260419T152613
CREATED:20201026T143931Z
LAST-MODIFIED:20201026T143931Z
UID:13013-1819996200-1819998000@www.descendimientocordoba.org
SUMMARY:Misa por los Hermanos Difuntos
DESCRIPTION:Todos los PRIMEROS VIERNES DE MES se celebrara una MISA como sufragio por los cofrades y fieles difuntos y de manera especial por aquellos que hayan fallecido durante el mes anterior a la misma. La Misa finalizara siempre con el rezo de la Oración a nuestro Stmo Titular.
URL:https://www.descendimientocordoba.org/evento/misa-por-los-hermanos-difuntos/2027-09-03/
LOCATION:Parroquia de San José y Espíritu Santo\, Plaza de Santa Teresa\, 1\, Córdoba\, 14009\, España
CATEGORIES:Cultos
ATTACH;FMTTYPE=image/jpeg:https://www.descendimientocordoba.org/wp-content/uploads/2020/09/descen-sept20-9.jpg
ORGANIZER;CN="Hermandad%20del%20Descendimiento":MAILTO:info@descendimientocordoba.org
END:VEVENT
BEGIN:VEVENT
DTSTART;TZID=Europe/Paris:20271001T183000
DTEND;TZID=Europe/Paris:20271001T190000
DTSTAMP:20260419T152613
CREATED:20201026T143931Z
LAST-MODIFIED:20201026T143931Z
UID:13054-1822415400-1822417200@www.descendimientocordoba.org
SUMMARY:Misa por los Hermanos Difuntos
DESCRIPTION:Todos los PRIMEROS VIERNES DE MES se celebrara una MISA como sufragio por los cofrades y fieles difuntos y de manera especial por aquellos que hayan fallecido durante el mes anterior a la misma. La Misa finalizara siempre con el rezo de la Oración a nuestro Stmo Titular.
URL:https://www.descendimientocordoba.org/evento/misa-por-los-hermanos-difuntos/2027-10-01/
LOCATION:Parroquia de San José y Espíritu Santo\, Plaza de Santa Teresa\, 1\, Córdoba\, 14009\, España
CATEGORIES:Cultos
ATTACH;FMTTYPE=image/jpeg:https://www.descendimientocordoba.org/wp-content/uploads/2020/09/descen-sept20-9.jpg
ORGANIZER;CN="Hermandad%20del%20Descendimiento":MAILTO:info@descendimientocordoba.org
END:VEVENT
BEGIN:VEVENT
DTSTART;TZID=Europe/Paris:20271105T183000
DTEND;TZID=Europe/Paris:20271105T190000
DTSTAMP:20260419T152613
CREATED:20201026T143931Z
LAST-MODIFIED:20201026T143931Z
UID:13056-1825439400-1825441200@www.descendimientocordoba.org
SUMMARY:Misa por los Hermanos Difuntos
DESCRIPTION:Todos los PRIMEROS VIERNES DE MES se celebrara una MISA como sufragio por los cofrades y fieles difuntos y de manera especial por aquellos que hayan fallecido durante el mes anterior a la misma. La Misa finalizara siempre con el rezo de la Oración a nuestro Stmo Titular.
URL:https://www.descendimientocordoba.org/evento/misa-por-los-hermanos-difuntos/2027-11-05/
LOCATION:Parroquia de San José y Espíritu Santo\, Plaza de Santa Teresa\, 1\, Córdoba\, 14009\, España
CATEGORIES:Cultos
ATTACH;FMTTYPE=image/jpeg:https://www.descendimientocordoba.org/wp-content/uploads/2020/09/descen-sept20-9.jpg
ORGANIZER;CN="Hermandad%20del%20Descendimiento":MAILTO:info@descendimientocordoba.org
END:VEVENT
BEGIN:VEVENT
DTSTART;TZID=Europe/Paris:20271203T183000
DTEND;TZID=Europe/Paris:20271203T190000
DTSTAMP:20260419T152613
CREATED:20201026T143931Z
LAST-MODIFIED:20201026T143931Z
UID:13058-1827858600-1827860400@www.descendimientocordoba.org
SUMMARY:Misa por los Hermanos Difuntos
DESCRIPTION:Todos los PRIMEROS VIERNES DE MES se celebrara una MISA como sufragio por los cofrades y fieles difuntos y de manera especial por aquellos que hayan fallecido durante el mes anterior a la misma. La Misa finalizara siempre con el rezo de la Oración a nuestro Stmo Titular.
URL:https://www.descendimientocordoba.org/evento/misa-por-los-hermanos-difuntos/2027-12-03/
LOCATION:Parroquia de San José y Espíritu Santo\, Plaza de Santa Teresa\, 1\, Córdoba\, 14009\, España
CATEGORIES:Cultos
ATTACH;FMTTYPE=image/jpeg:https://www.descendimientocordoba.org/wp-content/uploads/2020/09/descen-sept20-9.jpg
ORGANIZER;CN="Hermandad%20del%20Descendimiento":MAILTO:info@descendimientocordoba.org
END:VEVENT
BEGIN:VEVENT
DTSTART;TZID=Europe/Paris:20280107T183000
DTEND;TZID=Europe/Paris:20280107T190000
DTSTAMP:20260419T152613
CREATED:20201026T143931Z
LAST-MODIFIED:20201026T143931Z
UID:13060-1830882600-1830884400@www.descendimientocordoba.org
SUMMARY:Misa por los Hermanos Difuntos
DESCRIPTION:Todos los PRIMEROS VIERNES DE MES se celebrara una MISA como sufragio por los cofrades y fieles difuntos y de manera especial por aquellos que hayan fallecido durante el mes anterior a la misma. La Misa finalizara siempre con el rezo de la Oración a nuestro Stmo Titular.
URL:https://www.descendimientocordoba.org/evento/misa-por-los-hermanos-difuntos/2028-01-07/
LOCATION:Parroquia de San José y Espíritu Santo\, Plaza de Santa Teresa\, 1\, Córdoba\, 14009\, España
CATEGORIES:Cultos
ATTACH;FMTTYPE=image/jpeg:https://www.descendimientocordoba.org/wp-content/uploads/2020/09/descen-sept20-9.jpg
ORGANIZER;CN="Hermandad%20del%20Descendimiento":MAILTO:info@descendimientocordoba.org
END:VEVENT
BEGIN:VEVENT
DTSTART;TZID=Europe/Paris:20280204T183000
DTEND;TZID=Europe/Paris:20280204T190000
DTSTAMP:20260419T152613
CREATED:20201026T143931Z
LAST-MODIFIED:20201026T143931Z
UID:13092-1833301800-1833303600@www.descendimientocordoba.org
SUMMARY:Misa por los Hermanos Difuntos
DESCRIPTION:Todos los PRIMEROS VIERNES DE MES se celebrara una MISA como sufragio por los cofrades y fieles difuntos y de manera especial por aquellos que hayan fallecido durante el mes anterior a la misma. La Misa finalizara siempre con el rezo de la Oración a nuestro Stmo Titular.
URL:https://www.descendimientocordoba.org/evento/misa-por-los-hermanos-difuntos/2028-02-04/
LOCATION:Parroquia de San José y Espíritu Santo\, Plaza de Santa Teresa\, 1\, Córdoba\, 14009\, España
CATEGORIES:Cultos
ATTACH;FMTTYPE=image/jpeg:https://www.descendimientocordoba.org/wp-content/uploads/2020/09/descen-sept20-9.jpg
ORGANIZER;CN="Hermandad%20del%20Descendimiento":MAILTO:info@descendimientocordoba.org
END:VEVENT
BEGIN:VEVENT
DTSTART;TZID=Europe/Paris:20280303T183000
DTEND;TZID=Europe/Paris:20280303T190000
DTSTAMP:20260419T152613
CREATED:20201026T143931Z
LAST-MODIFIED:20201026T143931Z
UID:13157-1835721000-1835722800@www.descendimientocordoba.org
SUMMARY:Misa por los Hermanos Difuntos
DESCRIPTION:Todos los PRIMEROS VIERNES DE MES se celebrara una MISA como sufragio por los cofrades y fieles difuntos y de manera especial por aquellos que hayan fallecido durante el mes anterior a la misma. La Misa finalizara siempre con el rezo de la Oración a nuestro Stmo Titular.
URL:https://www.descendimientocordoba.org/evento/misa-por-los-hermanos-difuntos/2028-03-03/
LOCATION:Parroquia de San José y Espíritu Santo\, Plaza de Santa Teresa\, 1\, Córdoba\, 14009\, España
CATEGORIES:Cultos
ATTACH;FMTTYPE=image/jpeg:https://www.descendimientocordoba.org/wp-content/uploads/2020/09/descen-sept20-9.jpg
ORGANIZER;CN="Hermandad%20del%20Descendimiento":MAILTO:info@descendimientocordoba.org
END:VEVENT
BEGIN:VEVENT
DTSTART;TZID=Europe/Paris:20280407T183000
DTEND;TZID=Europe/Paris:20280407T190000
DTSTAMP:20260419T152613
CREATED:20201026T143931Z
LAST-MODIFIED:20201026T143931Z
UID:13210-1838745000-1838746800@www.descendimientocordoba.org
SUMMARY:Misa por los Hermanos Difuntos
DESCRIPTION:Todos los PRIMEROS VIERNES DE MES se celebrara una MISA como sufragio por los cofrades y fieles difuntos y de manera especial por aquellos que hayan fallecido durante el mes anterior a la misma. La Misa finalizara siempre con el rezo de la Oración a nuestro Stmo Titular.
URL:https://www.descendimientocordoba.org/evento/misa-por-los-hermanos-difuntos/2028-04-07/
LOCATION:Parroquia de San José y Espíritu Santo\, Plaza de Santa Teresa\, 1\, Córdoba\, 14009\, España
CATEGORIES:Cultos
ATTACH;FMTTYPE=image/jpeg:https://www.descendimientocordoba.org/wp-content/uploads/2020/09/descen-sept20-9.jpg
ORGANIZER;CN="Hermandad%20del%20Descendimiento":MAILTO:info@descendimientocordoba.org
END:VEVENT
END:VCALENDAR